BEGIN:VCALENDAR
VERSION:2.0
PRODID:-//イルチブレインヨガ公式サイト - ECPv6.15.16//NONSGML v1.0//EN
CALSCALE:GREGORIAN
METHOD:PUBLISH
X-WR-CALNAME:イルチブレインヨガ公式サイト
X-ORIGINAL-URL:https://ilchibrainyoga.com
X-WR-CALDESC:イルチブレインヨガ公式サイト のイベント
REFRESH-INTERVAL;VALUE=DURATION:PT1H
X-Robots-Tag:noindex
X-PUBLISHED-TTL:PT1H
BEGIN:VTIMEZONE
TZID:Asia/Tokyo
BEGIN:STANDARD
TZOFFSETFROM:+0900
TZOFFSETTO:+0900
TZNAME:JST
DTSTART:20250101T000000
END:STANDARD
END:VTIMEZONE
BEGIN:VEVENT
DTSTART;TZID=Asia/Tokyo:20260421T190000
DTEND;TZID=Asia/Tokyo:20260428T200000
DTSTAMP:20260420T075828
CREATED:20260407T045103Z
LAST-MODIFIED:20260418T025626Z
UID:88377-1776798000-1777406400@ilchibrainyoga.com
SUMMARY:【石橋】4月21日(火)22日(水)28日(火)オンラインzoom開催✨脳と心と体ゆるめる瞑想体験会✨〜ARIRANG(アリラン)気功ヒーリング体験〜
DESCRIPTION:体・心・脳のバランスチェックで状態を把握して\nアリラン気功で体の巡りを整えます。\n深い呼吸、瞑想で脳もスッキリします。\n☑3つの振動を通して\n☑7つのチャクラを目覚めさせ\n☑3つのボディを整える\n生命が本来持っている自然なリズムを整え、\n思考を静めて自分自身を整えるプログラム。 \n丹田に意識を向ける呼吸法で内側から活力をチャージし、\nエネルギー瞑想によって「気」の感覚を育てていきます。 \n心が静まり、深いリラックスの中で心身のバランスが\n整っていくのを感じてください。\n終了後に質問タイムもご用意しております。 \n開催日：4月21日(火)22日(水)28日(火)\n時間：19時～20時\n会場名：イルチブレインヨガ石橋スタジオ\n会場住所：大阪府池田市石橋2-2-10　マキノビル２階\n参加費：無料　　\n※ご予約確定後、当日URLを送らさせて頂きます。\nトレーナー：宗清有樹子\n持ち物：動きやすい服装、タオル\n問合せ電話：072-762-7507 \n\nLINEからのお申し込みはこちら⇒https://lin.ee/aObW5QQ \n\n\n  \n\n\n\n\n	\n	\n	 \n	\n		\n			\n				ご予約内容\n						（必須）\n						\n				 \n			\n			\n				体験レッスンイベント体験レッスン+オーラ撮影オーラ撮影問合せ\n				 \n				※ 入会予約はこちらからお申し込みください\n				 \n			\n		\n		\n			\n				お名前\n						（必須）\n						\n				 \n			\n			\n				\n				 \n			\n		\n		\n			\n				メールアドレス\n						（必須）\n						\n				 \n			\n			\n				\n※ 携帯電話のメールアドレスをご入力の際は、ドメイン指定の設定をされている場合”＠ilchibrainyoga.com”からのメールを受け取ることができるように設定してください。\n				 \n			\n		\n		\n			\n				お電話番号（携帯可）\n						（必須）\n						\n				 \n			\n			\n				イルチブレインヨガ各店舗からの連絡が可能な番号をご入力ください。\n\n				 \n			\n		\n		\n			\n				ご予約希望日時\n				 \n			\n			\n				ご予約希望日時をお選びください\n【希望日】タイムスケジュールに記載があるクラスからお選びください\n\n時間帯を選択してください10時台のクラス14時台のクラス18時台のクラス19時台のクラスOPENクラス子どもクラス午前のイベント午後のイベント夜のイベント\n				 \n				※ ご予約状況等によりご希望の日時に添えない場合もございます。その際は事前に調整を行う連絡をさせていただきますので予めご了承ください。\n\n				 \n			\n		\n		\n			\n				こちらのスタジオを何でお知りになりましたか？\n						 （必須）\n						\n				 \n			\n			\n				チラシ看板書籍雑誌紹介Yahoo検索Google検索口コミその他Webサイト\n				 \n			\n		\n		\n			\n				ご関心があること、習得したいこと（複数可）\n				 \n			\n			\n				自然治癒力アップ集中力アップダイエット体質改善ストレス軽減丹田強化呼吸法瞑想法その他（備考欄にご入力ください）\n				 \n			\n		\n		\n			\n				備考欄\n				 \n			\n			\n				\n				 \n			\n		\n	\n	個人情報の取扱い\n		について、同意の上送信します。\n※ ご入力頂いた情報は、株式会社DAHN WORLD JAPANからのご案内をさせて頂く以外の目的では使用致しません。\n		\n	 \n	\n	\n	 \n	※ 送信ボタンを押すとすぐ送信されます。このページで入力内容を確認してください。\n\n自動で完了メールが配信されます。\n	 \nΔ \n\n\n\n株式会社DAHN WORLD JAPAN　ダンワールドジャパン
URL:https://ilchibrainyoga.com/event/ishibashi-42/
LOCATION:イルチブレインヨガ石橋スタジオ\, 大阪府池田市石橋2-2-10マキノビル2階
CATEGORIES:大阪,石橋,関西
ATTACH;FMTTYPE=image/png:https://ilchibrainyoga.com/wp-content/uploads/2026/04/石橋.png
END:VEVENT
BEGIN:VEVENT
DTSTART;TZID=Asia/Tokyo:20260422T140000
DTEND;TZID=Asia/Tokyo:20260422T153000
DTSTAMP:20260420T075828
CREATED:20260312T025900Z
LAST-MODIFIED:20260327T064056Z
UID:86536-1776866400-1776871800@ilchibrainyoga.com
SUMMARY:【石橋】疲れた体と心をリセット　我理朗ARIRANG気功体験会
DESCRIPTION:体・心・脳のバランスチェックで状態を把握して\nアリラン気功で体の巡りを整えます。深い呼吸、瞑想で脳もスッキリします。\n　（こんな方におすすめです)\n・気功・瞑想に興味がある\n　　　・疲れがとれない\n　　　・呼吸が浅いと感じる\n　　　・眠りが浅い、熟睡できない \n開催日時：\n4月22日（水）14：00～15：30\n会場名：イルチブレインヨガ石橋スタジオ\n会場住所：大阪府池田市石橋2-2-10　マキノビル２階\n参加費：1000円\nトレーナー：菊地靖子・宗清有樹子\n持ち物：動きやすい服装、お飲み物、タオル\n問合せ電話：072-762-7507 \n\nLINEからのお申し込みはこちら⇒https://lin.ee/aObW5QQ \n\n\n  \n\n\n\n\n	\n	\n	 \n	\n		\n			\n				ご予約内容\n						（必須）\n						\n				 \n			\n			\n				体験レッスンイベント体験レッスン+オーラ撮影オーラ撮影問合せ\n				 \n				※ 入会予約はこちらからお申し込みください\n				 \n			\n		\n		\n			\n				お名前\n						（必須）\n						\n				 \n			\n			\n				\n				 \n			\n		\n		\n			\n				メールアドレス\n						（必須）\n						\n				 \n			\n			\n				\n※ 携帯電話のメールアドレスをご入力の際は、ドメイン指定の設定をされている場合”＠ilchibrainyoga.com”からのメールを受け取ることができるように設定してください。\n				 \n			\n		\n		\n			\n				お電話番号（携帯可）\n						（必須）\n						\n				 \n			\n			\n				イルチブレインヨガ各店舗からの連絡が可能な番号をご入力ください。\n\n				 \n			\n		\n		\n			\n				ご予約希望日時\n				 \n			\n			\n				ご予約希望日時をお選びください\n【希望日】タイムスケジュールに記載があるクラスからお選びください\n\n時間帯を選択してください10時台のクラス14時台のクラス18時台のクラス19時台のクラスOPENクラス子どもクラス午前のイベント午後のイベント夜のイベント\n				 \n				※ ご予約状況等によりご希望の日時に添えない場合もございます。その際は事前に調整を行う連絡をさせていただきますので予めご了承ください。\n\n				 \n			\n		\n		\n			\n				こちらのスタジオを何でお知りになりましたか？\n						 （必須）\n						\n				 \n			\n			\n				チラシ看板書籍雑誌紹介Yahoo検索Google検索口コミその他Webサイト\n				 \n			\n		\n		\n			\n				ご関心があること、習得したいこと（複数可）\n				 \n			\n			\n				自然治癒力アップ集中力アップダイエット体質改善ストレス軽減丹田強化呼吸法瞑想法その他（備考欄にご入力ください）\n				 \n			\n		\n		\n			\n				備考欄\n				 \n			\n			\n				\n				 \n			\n		\n	\n	個人情報の取扱い\n		について、同意の上送信します。\n※ ご入力頂いた情報は、株式会社DAHN WORLD JAPANからのご案内をさせて頂く以外の目的では使用致しません。\n		\n	 \n	\n	\n	 \n	※ 送信ボタンを押すとすぐ送信されます。このページで入力内容を確認してください。\n\n自動で完了メールが配信されます。\n	 \nΔ \n\n\n\n株式会社DAHN WORLD JAPAN　ダンワールドジャパン
URL:https://ilchibrainyoga.com/event/ishibashi-38/
LOCATION:イルチブレインヨガ石橋スタジオ\, 大阪府池田市石橋2-2-10マキノビル2階
CATEGORIES:大阪,石橋,関西
ATTACH;FMTTYPE=image/png:https://ilchibrainyoga.com/wp-content/uploads/2026/03/気功-2人-新モデル.png
END:VEVENT
BEGIN:VEVENT
DTSTART;TZID=Asia/Tokyo:20260423T100000
DTEND;TZID=Asia/Tokyo:20260424T210000
DTSTAMP:20260420T075828
CREATED:20260405T070929Z
LAST-MODIFIED:20260417T093820Z
UID:88338-1776938400-1777064400@ilchibrainyoga.com
SUMMARY:【石橋】4月23日(木)24日(金) 気体操・気功・呼吸・瞑想体験会
DESCRIPTION:マッサージ、筋トレだけではほぐせない。\n簡単な動きと気功で自分自身と向き合い、体の内側、内臓までアプローチしていきます。\n本来備わっている生命のリズムを目覚めさせ、\n呼吸・瞑想を通して、心身のバランスを整えていきます。 \n・疲れが抜けにくい\n・瞑想に興味がある方\n・頭が休まらない\n・呼吸しづらい、眠りが浅い\n・腰・股関節・膝などの下半身の筋肉をつけたい。 \nそんな方におすすめです。\n初めての方も安心して参加できます。 \n開催日：4月23日(木)24日(金)\n時間：10時～14時～19時～\n会場名：イルチブレインヨガ石橋スタジオ\n会場住所：大阪府池田市石橋2-2-10　マキノビル２階\n参加費：1000円\nトレーナー：菊地靖子\n持ち物：動きやすい服装、お飲み物、タオル\n問合せ電話：072-762-7507 \n\nLINEからのお申し込みはこちら⇒https://lin.ee/aObW5QQ \n\n\n  \n\n\n\n\n	\n	\n	 \n	\n		\n			\n				ご予約内容\n						（必須）\n						\n				 \n			\n			\n				体験レッスンイベント体験レッスン+オーラ撮影オーラ撮影問合せ\n				 \n				※ 入会予約はこちらからお申し込みください\n				 \n			\n		\n		\n			\n				お名前\n						（必須）\n						\n				 \n			\n			\n				\n				 \n			\n		\n		\n			\n				メールアドレス\n						（必須）\n						\n				 \n			\n			\n				\n※ 携帯電話のメールアドレスをご入力の際は、ドメイン指定の設定をされている場合”＠ilchibrainyoga.com”からのメールを受け取ることができるように設定してください。\n				 \n			\n		\n		\n			\n				お電話番号（携帯可）\n						（必須）\n						\n				 \n			\n			\n				イルチブレインヨガ各店舗からの連絡が可能な番号をご入力ください。\n\n				 \n			\n		\n		\n			\n				ご予約希望日時\n				 \n			\n			\n				ご予約希望日時をお選びください\n【希望日】タイムスケジュールに記載があるクラスからお選びください\n\n時間帯を選択してください10時台のクラス14時台のクラス18時台のクラス19時台のクラスOPENクラス子どもクラス午前のイベント午後のイベント夜のイベント\n				 \n				※ ご予約状況等によりご希望の日時に添えない場合もございます。その際は事前に調整を行う連絡をさせていただきますので予めご了承ください。\n\n				 \n			\n		\n		\n			\n				こちらのスタジオを何でお知りになりましたか？\n						 （必須）\n						\n				 \n			\n			\n				チラシ看板書籍雑誌紹介Yahoo検索Google検索口コミその他Webサイト\n				 \n			\n		\n		\n			\n				ご関心があること、習得したいこと（複数可）\n				 \n			\n			\n				自然治癒力アップ集中力アップダイエット体質改善ストレス軽減丹田強化呼吸法瞑想法その他（備考欄にご入力ください）\n				 \n			\n		\n		\n			\n				備考欄\n				 \n			\n			\n				\n				 \n			\n		\n	\n	個人情報の取扱い\n		について、同意の上送信します。\n※ ご入力頂いた情報は、株式会社DAHN WORLD JAPANからのご案内をさせて頂く以外の目的では使用致しません。\n		\n	 \n	\n	\n	 \n	※ 送信ボタンを押すとすぐ送信されます。このページで入力内容を確認してください。\n\n自動で完了メールが配信されます。\n	 \nΔ \n\n\n\n株式会社DAHN WORLD JAPAN　ダンワールドジャパン
URL:https://ilchibrainyoga.com/event/ishibashi-41/
LOCATION:イルチブレインヨガ石橋スタジオ\, 大阪府池田市石橋2-2-10マキノビル2階
CATEGORIES:大阪,石橋,関西
ATTACH;FMTTYPE=image/jpeg:https://ilchibrainyoga.com/wp-content/uploads/2026/04/石橋.jpg
END:VEVENT
END:VCALENDAR